BEGIN:VCALENDAR
VERSION:2.0
PRODID:-//Butler Old Stone House Region of the AACA - ECPv6.13.2.1//NONSGML v1.0//EN
CALSCALE:GREGORIAN
METHOD:PUBLISH
X-ORIGINAL-URL:https://butlerparegion.org
X-WR-CALDESC:Events for Butler Old Stone House Region of the AACA
REFRESH-INTERVAL;VALUE=DURATION:PT1H
X-Robots-Tag:noindex
X-PUBLISHED-TTL:PT1H
BEGIN:VTIMEZONE
TZID:America/New_York
BEGIN:DAYLIGHT
TZOFFSETFROM:-0500
TZOFFSETTO:-0400
TZNAME:EDT
DTSTART:20250309T070000
END:DAYLIGHT
BEGIN:STANDARD
TZOFFSETFROM:-0400
TZOFFSETTO:-0500
TZNAME:EST
DTSTART:20251102T060000
END:STANDARD
BEGIN:DAYLIGHT
TZOFFSETFROM:-0500
TZOFFSETTO:-0400
TZNAME:EDT
DTSTART:20260308T070000
END:DAYLIGHT
BEGIN:STANDARD
TZOFFSETFROM:-0400
TZOFFSETTO:-0500
TZNAME:EST
DTSTART:20261101T060000
END:STANDARD
END:VTIMEZONE
BEGIN:VEVENT
DTSTART;TZID=America/New_York:20260419T130000
DTEND;TZID=America/New_York:20260419T160000
DTSTAMP:20260420T043638
CREATED:20260308T174339Z
LAST-MODIFIED:20260308T174339Z
UID:216-1776603600-1776614400@butlerparegion.org
SUMMARY:Butler-Built Garage Open House
DESCRIPTION:See a collection of vehicles designed and built in Butler\, PA. Marvel at the ingenuity behind the American Bantam Jeep\, the American Austin\, the Huselton\, the Standard and more! A fascinating experience for all ages. This event is free but the club welcomes donations.
URL:https://butlerparegion.org/event/butler-built-garage-open-house-9/
LOCATION:Butler Built Garage\, 110 Barracks Rd\, Butler\, PA\, 16001
END:VEVENT
BEGIN:VEVENT
DTSTART;TZID=America/New_York:20260315T130000
DTEND;TZID=America/New_York:20260315T160000
DTSTAMP:20260420T043638
CREATED:20260219T223037Z
LAST-MODIFIED:20260308T174149Z
UID:209-1773579600-1773590400@butlerparegion.org
SUMMARY:Butler-Built Garage Open House
DESCRIPTION:See a collection of vehicles designed and built in Butler\, PA. Marvel at the ingenuity behind the American Bantam Jeep\, the American Austin\, the Huselton\, the Standard and more! A fascinating experience for all ages. This event is free but the club welcomes donations.
URL:https://butlerparegion.org/event/butler-built-garage-open-house-8/
LOCATION:Butler Built Garage\, 110 Barracks Rd\, Butler\, PA\, 16001
END:VEVENT
BEGIN:VEVENT
DTSTART;TZID=America/New_York:20260221T140000
DTEND;TZID=America/New_York:20260221T153000
DTSTAMP:20260420T043638
CREATED:20260219T222259Z
LAST-MODIFIED:20260219T222259Z
UID:204-1771682400-1771687800@butlerparegion.org
SUMMARY:Club Member Meeting (Special Day and Time)
DESCRIPTION:This is an alternative to the usual club meeting. It is immediately following the work session at the garage.
URL:https://butlerparegion.org/event/club-member-meeting-special-day-and-time/
LOCATION:Butler Built Garage\, 110 Barracks Rd\, Butler\, PA\, 16001
END:VEVENT
BEGIN:VEVENT
DTSTART;TZID=America/New_York:20260221T100000
DTEND;TZID=America/New_York:20260221T140000
DTSTAMP:20260420T043638
CREATED:20260219T222112Z
LAST-MODIFIED:20260219T222112Z
UID:202-1771668000-1771682400@butlerparegion.org
SUMMARY:Club Member Work Day
DESCRIPTION:We have a member’s Work Day this saturday from 10-2. The club meeting will follow at 2pm.
URL:https://butlerparegion.org/event/club-member-work-day-2/
LOCATION:Butler Built Garage\, 110 Barracks Rd\, Butler\, PA\, 16001
END:VEVENT
BEGIN:VEVENT
DTSTART;TZID=America/New_York:20260215T130000
DTEND;TZID=America/New_York:20260215T160000
DTSTAMP:20260420T043638
CREATED:20260219T222853Z
LAST-MODIFIED:20260219T222853Z
UID:207-1771160400-1771171200@butlerparegion.org
SUMMARY:Butler-Built Garage Open House
DESCRIPTION:See a collection of vehicles designed and built in Butler\, PA. Marvel at the ingenuity behind the American Bantam Jeep\, the American Austin\, the Huselton\, the Standard and more! A fascinating experience for all ages.
URL:https://butlerparegion.org/event/butler-built-garage-open-house-7/
END:VEVENT
BEGIN:VEVENT
DTSTART;TZID=America/New_York:20250823T193000
DTEND;TZID=America/New_York:20250823T203000
DTSTAMP:20260420T043638
CREATED:20250804T151453Z
LAST-MODIFIED:20250804T151453Z
UID:200-1755977400-1755981000@butlerparegion.org
SUMMARY:Club Member Monthly Meeting
DESCRIPTION:This is our regularly scheduled club meeting. Also\, we are still in need of club officers. If you think you might be able to serve\, let a board member know.
URL:https://butlerparegion.org/event/club-member-monthly-meeting-2/
LOCATION:Butler Built Garage\, 110 Barracks Rd\, Butler\, PA\, 16001
END:VEVENT
BEGIN:VEVENT
DTSTART;TZID=America/New_York:20250817T130000
DTEND;TZID=America/New_York:20250817T160000
DTSTAMP:20260420T043638
CREATED:20250804T151107Z
LAST-MODIFIED:20250804T151107Z
UID:198-1755435600-1755446400@butlerparegion.org
SUMMARY:Butler-Built Garage Open House
DESCRIPTION:See a collection of vehicles designed and built in Butler\, PA. Marvel at the ingenuity behind the American Bantam Jeep\, the American Austin\, the Huselton\, the Standard and more! A fascinating experience for all ages.
URL:https://butlerparegion.org/event/butler-built-garage-open-house-6/
LOCATION:Butler Built Garage\, 110 Barracks Rd\, Butler\, PA\, 16001
END:VEVENT
BEGIN:VEVENT
DTSTART;TZID=America/New_York:20250720T010000
DTEND;TZID=America/New_York:20250720T160000
DTSTAMP:20260420T043638
CREATED:20250525T014250Z
LAST-MODIFIED:20250525T014250Z
UID:185-1752973200-1753027200@butlerparegion.org
SUMMARY:Butler-Built Garage Open House
DESCRIPTION:See a collection of vehicles designed and built in Butler\, PA. Marvel at the ingenuity behind the American Bantam Jeep\, the American Austin\, the Huselton\, the Standard and more! A fascinating experience for all ages.
URL:https://butlerparegion.org/event/butler-built-garage-open-house-5/
END:VEVENT
BEGIN:VEVENT
DTSTART;TZID=America/New_York:20250712T120000
DTEND;TZID=America/New_York:20250712T200000
DTSTAMP:20260420T043638
CREATED:20250525T014054Z
LAST-MODIFIED:20250525T014054Z
UID:183-1752321600-1752350400@butlerparegion.org
SUMMARY:Butler-Built Cars to be displayed at Mega Cruise at Fairground Market
DESCRIPTION:Some of the Butler-Built Cars will be displayed at the Mega Cruise at the Fairground Market.
URL:https://butlerparegion.org/event/butler-built-cars-to-be-displayed-at-mega-cruise-at-fairground-market/
END:VEVENT
BEGIN:VEVENT
DTSTART;TZID=America/New_York:20250704T110000
DTEND;TZID=America/New_York:20250704T130000
DTSTAMP:20260420T043638
CREATED:20250525T013612Z
LAST-MODIFIED:20250525T013612Z
UID:180-1751626800-1751634000@butlerparegion.org
SUMMARY:Butler-Built BRC (jeep) participates in the Zelienople July 4th parade
DESCRIPTION:In conjunction with the Heritage Region Jeep Alliance\, the Buter-Built American Bantam Reconnaissance Car (jeep) will participate in the Zelienople July 4th parade.
URL:https://butlerparegion.org/event/butler-built-brc-jeep-participates-in-the-zelienople-july-4th-parade/
END:VEVENT
BEGIN:VEVENT
DTSTART;TZID=America/New_York:20250628T193000
DTEND;TZID=America/New_York:20250628T203000
DTSTAMP:20260420T043638
CREATED:20250515T153615Z
LAST-MODIFIED:20250515T153615Z
UID:147-1751139000-1751142600@butlerparegion.org
SUMMARY:Club Member Monthly Meeting
DESCRIPTION:This is our regularly scheduled club meeting. Also\, we are still in need of club officers. If you think you might be able to serve\, let a board member know.
URL:https://butlerparegion.org/event/club-member-monthly-meeting/
LOCATION:Garage\, 100 Barracks Rd\, Butler\, PA\, 16001\, United States
END:VEVENT
BEGIN:VEVENT
DTSTART;TZID=America/New_York:20250622T110000
DTEND;TZID=America/New_York:20250622T150000
DTSTAMP:20260420T043638
CREATED:20250515T162002Z
LAST-MODIFIED:20250515T162002Z
UID:160-1750590000-1750604400@butlerparegion.org
SUMMARY:Icons Event - Displaying Bantam Roadster and Austin S
DESCRIPTION:
URL:https://butlerparegion.org/event/icons-event-displaying-bantam-roadster-and-austin-s/
LOCATION:Energy Innovation Center\, 1435 Bedford Ave\, Pittsburgh\, PA\, 15219\, United States
END:VEVENT
BEGIN:VEVENT
DTSTART;TZID=America/New_York:20250621T100000
DTEND;TZID=America/New_York:20250621T140000
DTSTAMP:20260420T043638
CREATED:20250515T162444Z
LAST-MODIFIED:20250515T162444Z
UID:163-1750500000-1750514400@butlerparegion.org
SUMMARY:Experience Butler County History Day
DESCRIPTION:We will be participating with Experience Butler County (Tourism) on their History Day. Our garage will have an Open House.
URL:https://butlerparegion.org/event/experience-butler-county-history-day/
LOCATION:Butler Built Garage\, 110 Barracks Rd\, Butler\, PA\, 16001
END:VEVENT
BEGIN:VEVENT
DTSTART;TZID=America/New_York:20250615T130000
DTEND;TZID=America/New_York:20250615T160000
DTSTAMP:20260420T043638
CREATED:20250511T104807Z
LAST-MODIFIED:20250525T012853Z
UID:112-1749992400-1750003200@butlerparegion.org
SUMMARY:Butler-Built Garage Open House
DESCRIPTION:This is a special event during the Heritage Jeep Festival. See a collection of vehicles designed and built in Butler\, PA. Marvel at the ingenuity behind the American Bantam Jeep\, the American Austin\, the Huselton\, the Standard and more! A fascinating experience for all ages.
URL:https://butlerparegion.org/event/butler-built-garage-open-house-3/
LOCATION:Butler Built Garage\, 110 Barracks Rd\, Butler\, PA\, 16001
END:VEVENT
BEGIN:VEVENT
DTSTART;TZID=America/New_York:20250614T130000
DTEND;TZID=America/New_York:20250614T160000
DTSTAMP:20260420T043638
CREATED:20250525T012737Z
LAST-MODIFIED:20250525T012737Z
UID:176-1749906000-1749916800@butlerparegion.org
SUMMARY:Butler-Built Garage Open House
DESCRIPTION:This is a special 3-day event during the Heritage Jeep Festival. \nSee a collection of vehicles designed and built in Butler\, PA. Marvel at the ingenuity behind the American Bantam Jeep\, the American Austin\, the Huselton\, the Standard and more! A fascinating experience for all ages.
URL:https://butlerparegion.org/event/butler-built-garage-open-house-4/
LOCATION:Butler Built Garage\, 110 Barracks Rd\, Butler\, PA\, 16001
END:VEVENT
BEGIN:VEVENT
DTSTART;TZID=America/New_York:20250613T130000
DTEND;TZID=America/New_York:20250613T160000
DTSTAMP:20260420T043638
CREATED:20250525T012410Z
LAST-MODIFIED:20250525T012617Z
UID:172-1749819600-1749830400@butlerparegion.org
SUMMARY:Butler-Built Garage Open House
DESCRIPTION:This is a special 3-day event during the Heritage Jeep Festival. \nSee a collection of vehicles designed and built in Butler\, PA. Marvel at the ingenuity behind the American Bantam Jeep\, the American Austin\, the Huselton\, the Standard and more! A fascinating experience for all ages.
URL:https://butlerparegion.org/event/butler-built-cars-open-house/
LOCATION:Butler Built Garage\, 110 Barracks Rd\, Butler\, PA\, 16001
END:VEVENT
BEGIN:VEVENT
DTSTART;TZID=America/New_York:20250613T000000
DTEND;TZID=America/New_York:20250615T235959
DTSTAMP:20260420T043638
CREATED:20250515T161012Z
LAST-MODIFIED:20250515T161012Z
UID:158-1749772800-1750031999@butlerparegion.org
SUMMARY:Butler-Built Bantam BRC displayed at the Bantam Jeep Heritage Festival
DESCRIPTION:This is the big Jeep Festival held every year. \nThe Butler-Built Bantam Reconnaissance Car (BRC aka Jeep) will be displayed along with our booth. \nThe BRC will also participate in the “invasion” downtown Butler and also be at the Butler-Built garage Open House on Sunday. \nAttention BOSHR Members: We can always use help manning our booth. \nBantam Jeep Heritage Festival
URL:https://butlerparegion.org/event/butler-built-bantam-brc-displayed-at-the-bantam-jeep-heritage-festival/
END:VEVENT
BEGIN:VEVENT
DTSTART;TZID=America/New_York:20250611T070000
DTEND;TZID=America/New_York:20250611T200000
DTSTAMP:20260420T043638
CREATED:20250515T154208Z
LAST-MODIFIED:20250515T154302Z
UID:150-1749625200-1749672000@butlerparegion.org
SUMMARY:Board of Directors Monthly Meeting
DESCRIPTION:This is the monthly meeting of the club’s Board of Directors that consist of the elected Officers and Directors.
URL:https://butlerparegion.org/event/board-monthly-meeting/
LOCATION:Garage\, 100 Barracks Rd\, Butler\, PA\, 16001\, United States
END:VEVENT
BEGIN:VEVENT
DTSTART;TZID=America/New_York:20250606T150000
DTEND;TZID=America/New_York:20250606T170000
DTSTAMP:20260420T043638
CREATED:20250515T155730Z
LAST-MODIFIED:20250530T181557Z
UID:155-1749222000-1749229200@butlerparegion.org
SUMMARY:CANCELLED Butler-Built BRC displayed at Rocky Bleier's Role Call for The Greatest Generation
DESCRIPTION:Rocky Bleier’s Roll Call For The Greatest Generation – June 6\, 2025 – Stage AE – PromoWest North Shore
URL:https://butlerparegion.org/event/tentative-butler-built-brc-displayed-at-rocky-bleiers-role-call-for-the-greatest-generation/
LOCATION:Stage AE\, 400 North Shore Drive\, Pittsburgh\, PA\, 15212\, United States
END:VEVENT
BEGIN:VEVENT
DTSTART;TZID=America/New_York:20250526T000000
DTEND;TZID=America/New_York:20250526T235959
DTSTAMP:20260420T043638
CREATED:20250515T154741Z
LAST-MODIFIED:20250515T154741Z
UID:153-1748217600-1748303999@butlerparegion.org
SUMMARY:Butler Memorial Day Parade
DESCRIPTION:The Butler-Built Bantam Reconnaissance Car (BRC aka Jeep) regularly participates in this parade.
URL:https://butlerparegion.org/event/butler-memorial-day-parade/
END:VEVENT
BEGIN:VEVENT
DTSTART;TZID=America/New_York:20250524T073000
DTEND;TZID=America/New_York:20250524T203000
DTSTAMP:20260420T043638
CREATED:20250515T153331Z
LAST-MODIFIED:20250515T153722Z
UID:144-1748071800-1748118600@butlerparegion.org
SUMMARY:Club Member Monthly Meeting
DESCRIPTION:This is our regularly scheduled club meeting. Also\, we are still in need of club officers. If you think you might be able to serve\, let a board member know.
URL:https://butlerparegion.org/event/club-member-meeting-2/
LOCATION:Garage\, 100 Barracks Rd\, Butler\, PA\, 16001\, United States
END:VEVENT
BEGIN:VEVENT
DTSTART;TZID=America/New_York:20250518T130000
DTEND;TZID=America/New_York:20250518T160000
DTSTAMP:20260420T043638
CREATED:20250511T104612Z
LAST-MODIFIED:20250511T104612Z
UID:109-1747573200-1747584000@butlerparegion.org
SUMMARY:Butler-Built Garage Open House
DESCRIPTION:See a collection of vehicles designed and built in Butler\, PA. Marvel at the ingenuity behind the American Bantam Jeep\, the American Austin\, the Huselton\, the Standard and more! A fascinating experience for all ages.
URL:https://butlerparegion.org/event/butler-built-garage-open-house-2/
LOCATION:Butler Built Garage\, 110 Barracks Rd\, Butler\, PA\, 16001
END:VEVENT
BEGIN:VEVENT
DTSTART;TZID=America/New_York:20250428T130000
DTEND;TZID=America/New_York:20250428T160000
DTSTAMP:20260420T043638
CREATED:20250424T025447Z
LAST-MODIFIED:20250424T025636Z
UID:75-1745845200-1745856000@butlerparegion.org
SUMMARY:Butler-Built Garage Open House
DESCRIPTION:See a collection of vehicles designed and built in Butler\, PA. Marvel at the ingenuity behind the American Bantam Jeep\, the American Austin\, the Huselton\, the Standard and more! A fascinating experience for all ages.
URL:https://butlerparegion.org/event/butler-built-garage-open-house/
LOCATION:Butler Built Garage\, 110 Barracks Rd\, Butler\, PA\, 16001
END:VEVENT
BEGIN:VEVENT
DTSTART;TZID=America/New_York:20250426T193000
DTEND;TZID=America/New_York:20250426T203000
DTSTAMP:20260420T043638
CREATED:20250424T024855Z
LAST-MODIFIED:20250511T105236Z
UID:73-1745695800-1745699400@butlerparegion.org
SUMMARY:Club Member Meeting
DESCRIPTION:This is our regularly scheduled club meeting. Also\, we are still in need of club officers. If you think you might be able to serve\, let me know.
URL:https://butlerparegion.org/event/club-member-meeting/
LOCATION:Garage\, 100 Barracks Rd\, Butler\, PA\, 16001\, United States
END:VEVENT
BEGIN:VEVENT
DTSTART;TZID=America/New_York:20250426T100000
DTEND;TZID=America/New_York:20250426T140000
DTSTAMP:20260420T043638
CREATED:20250424T024600Z
LAST-MODIFIED:20250425T220822Z
UID:70-1745661600-1745676000@butlerparegion.org
SUMMARY:Club Member Work Day
DESCRIPTION:We have a member’s Work Day this saturday from 10-2. This is in preparation for the Open House this Sunday.
URL:https://butlerparegion.org/event/club-member-work-day/
LOCATION:Garage\, 100 Barracks Rd\, Butler\, PA\, 16001\, United States
END:VEVENT
END:VCALENDAR